BEGIN:VCALENDAR
VERSION:2.0
PRODID:-//eventon.com NONSGML v1.0//EN
CALSCALE:GREGORIAN
METHOD:PUBLISH
BEGIN:VEVENT
UID:69ea3088c6d61
DTSTAMP:20260423T144528Z
DTSTART:20260402T100000Z
DTEND:20260402T140000Z
LOCATION:
SUMMARY:Local Government Reforms National Stakeholder Workshop
DESCRIPTION:As Ghana navigates the implementation of the National Decentral
 ization Policy and Strategy (2026–2030)\,  and with the Constitutional Re
 view Committee’s report calling for a major overhaul of our decentralizat
 ion agenda\,  it is critical to address the persistent gap between our cons
 titutional vision and the practical realities of local governance. This wor
 kshop[..]\nhttps://cddgh.org/events/local-government-reforms-national-stake
 holder-workshop/
URL:https://cddgh.org/events/local-government-reforms-national-stakeholder-workshop/
END:VEVENT
END:VCALENDAR