BEGIN:VCALENDAR
VERSION:2.0
PRODID:-//eventon.com NONSGML v1.0//EN
CALSCALE:GREGORIAN
METHOD:PUBLISH
BEGIN:VEVENT
UID:69ea30fd888d6
DTSTAMP:20260423T144725Z
DTSTART:20260413T114400Z
DTEND:20260430T114400Z
LOCATION:
SUMMARY:Regional Dialogues on the Office of the Special Prosecutor
DESCRIPTION:Regional Dialogues on the Office of the Special Prosecutor\nhtt
 ps://cddgh.org/events/regional-dialogues-on-the-office-of-the-special-prose
 cutor/
URL:https://cddgh.org/events/regional-dialogues-on-the-office-of-the-special-prosecutor/
END:VEVENT
END:VCALENDAR