BEGIN:VCALENDAR
VERSION:2.0
PRODID:-//eventon.com NONSGML v1.0//EN
CALSCALE:GREGORIAN
METHOD:PUBLISH
BEGIN:VEVENT
UID:69ea32305160c
DTSTAMP:20260423T145232Z
DTSTART:20260413T115800Z
DTEND:20260417T115800Z
LOCATION:
SUMMARY:Regional Dissemination: Local Government Reforms
DESCRIPTION:Regional Dissemination: Local Government Reforms\nhttps://cddgh
 .org/events/regional-dissemination-local-government-reforms/
URL:https://cddgh.org/events/regional-dissemination-local-government-reforms/
END:VEVENT
END:VCALENDAR