BEGIN:VCALENDAR
VERSION:2.0
PRODID:-//eventon.com NONSGML v1.0//EN
CALSCALE:GREGORIAN
METHOD:PUBLISH
BEGIN:VEVENT
UID:69e8a67bb7632
DTSTAMP:20260422T104411Z
DTSTART:20190404T100200Z
DTEND:20190404T235000Z
LOCATION:
SUMMARY:Validation meeting with local stakeholders (Planting for Food and Jobs program)\,  Bosome-Freho District
DESCRIPTION:Validation meeting with local stakeholders (Planting for Food a
 nd Jobs program)\,  Bosome-Freho District\nhttps://cddgh.org/events/validat
 ion-meeting-with-local-stakeholders-bosome-freho-district/
URL:https://cddgh.org/events/validation-meeting-with-local-stakeholders-bosome-freho-district/
END:VEVENT
END:VCALENDAR