BEGIN:VCALENDAR
VERSION:2.0
PRODID:-//eventon.com NONSGML v1.0//EN
CALSCALE:GREGORIAN
METHOD:PUBLISH
BEGIN:VEVENT
UID:69e7c7a162ed1
DTSTAMP:20260421T185321Z
DTSTART:20190417T100000Z
DTEND:20190418T160000Z
LOCATION:
SUMMARY:Local Governance project district level engagements\,  Krachi East
DESCRIPTION:Local Governance project district level engagements\,  Krachi E
 ast\nhttps://cddgh.org/events/local-governance-project-district-level-engag
 ements-krachi-east/
URL:https://cddgh.org/events/local-governance-project-district-level-engagements-krachi-east/
END:VEVENT
END:VCALENDAR