BEGIN:VCALENDAR
VERSION:2.0
PRODID:-//eventon.com NONSGML v1.0//EN
CALSCALE:GREGORIAN
METHOD:PUBLISH
BEGIN:VEVENT
UID:69e9082f2117e
DTSTAMP:20260422T174103Z
DTSTART:20190612T100000Z
DTEND:20190614T140000Z
LOCATION:
SUMMARY:I Am Aware (IAA) District Level Engagements in the Eastern Region
DESCRIPTION:I Am Aware (IAA) District Level Engagements in the Eastern Regi
 on\nhttps://cddgh.org/events/i-am-aware-iaa-district-level-engagements-in-t
 he-eastern-region/
URL:https://cddgh.org/events/i-am-aware-iaa-district-level-engagements-in-the-eastern-region/
END:VEVENT
END:VCALENDAR